BEGIN:VCALENDAR
VERSION:2.0
PRODID:-//American Stormwater Institute - ECPv6.15.20//NONSGML v1.0//EN
CALSCALE:GREGORIAN
METHOD:PUBLISH
X-WR-CALNAME:American Stormwater Institute
X-ORIGINAL-URL:https://americanstormwaterinstitute.com
X-WR-CALDESC:Events for American Stormwater Institute
REFRESH-INTERVAL;VALUE=DURATION:PT1H
X-Robots-Tag:noindex
X-PUBLISHED-TTL:PT1H
BEGIN:VTIMEZONE
TZID:America/New_York
BEGIN:DAYLIGHT
TZOFFSETFROM:-0500
TZOFFSETTO:-0400
TZNAME:EDT
DTSTART:20250309T070000
END:DAYLIGHT
BEGIN:STANDARD
TZOFFSETFROM:-0400
TZOFFSETTO:-0500
TZNAME:EST
DTSTART:20251102T060000
END:STANDARD
BEGIN:DAYLIGHT
TZOFFSETFROM:-0500
TZOFFSETTO:-0400
TZNAME:EDT
DTSTART:20260308T070000
END:DAYLIGHT
BEGIN:STANDARD
TZOFFSETFROM:-0400
TZOFFSETTO:-0500
TZNAME:EST
DTSTART:20261101T060000
END:STANDARD
BEGIN:DAYLIGHT
TZOFFSETFROM:-0500
TZOFFSETTO:-0400
TZNAME:EDT
DTSTART:20270314T070000
END:DAYLIGHT
BEGIN:STANDARD
TZOFFSETFROM:-0400
TZOFFSETTO:-0500
TZNAME:EST
DTSTART:20271107T060000
END:STANDARD
END:VTIMEZONE
BEGIN:VEVENT
DTSTART;TZID=America/New_York:20260625T093000
DTEND;TZID=America/New_York:20260625T173000
DTSTAMP:20260420T040400
CREATED:20251020T153239Z
LAST-MODIFIED:20251020T153239Z
UID:10000404-1782379800-1782408600@americanstormwaterinstitute.com
SUMMARY:Qualified MS4 Low Impact Development and Green Infrastructure Inspector (QLID/GI)
DESCRIPTION:This is a one-day class to be held live and online. An email including the Zoom link will be sent one week prior to the training. \nTime: 9:30 am until 5:30 pm ET \nA $25.00 discount will be applied to any single order that includes three attendees from the same organization.
URL:https://americanstormwaterinstitute.com/event/qualified-ms4-low-impact-development-and-green-infrastructure-inspector-qlid-gi-2/
LOCATION:Online – no venue\, United States
CATEGORIES:LID/GI,Online Course
END:VEVENT
END:VCALENDAR